BEGIN:VCALENDAR
VERSION:2.0
PRODID:-//Prospecta Promotora - ECPv6.15.20//NONSGML v1.0//EN
CALSCALE:GREGORIAN
METHOD:PUBLISH
X-WR-CALNAME:Prospecta Promotora
X-ORIGINAL-URL:https://prospectapromotora.com.br
X-WR-CALDESC:Eventos para Prospecta Promotora
REFRESH-INTERVAL;VALUE=DURATION:PT1H
X-Robots-Tag:noindex
X-PUBLISHED-TTL:PT1H
BEGIN:VTIMEZONE
TZID:America/Sao_Paulo
BEGIN:STANDARD
TZOFFSETFROM:-0300
TZOFFSETTO:-0300
TZNAME:-03
DTSTART:20230101T000000
END:STANDARD
END:VTIMEZONE
BEGIN:VEVENT
DTSTART;VALUE=DATE:20241004
DTEND;VALUE=DATE:20241005
DTSTAMP:20260421T063958
CREATED:20240519T105539Z
LAST-MODIFIED:20240519T123038Z
UID:1431-1728000000-1728086399@prospectapromotora.com.br
SUMMARY:Renato de Souza da Silva
DESCRIPTION:
URL:https://prospectapromotora.com.br/event/renato-de-souza-da-silva/
END:VEVENT
BEGIN:VEVENT
DTSTART;VALUE=DATE:20241003
DTEND;VALUE=DATE:20241004
DTSTAMP:20260421T063958
CREATED:20240519T110219Z
LAST-MODIFIED:20241003T141916Z
UID:1527-1727913600-1727999999@prospectapromotora.com.br
SUMMARY:Kleber Batista Matias da Silva
DESCRIPTION:
URL:https://prospectapromotora.com.br/event/kleber-batista-matias-da-silva/
END:VEVENT
BEGIN:VEVENT
DTSTART;VALUE=DATE:20241003
DTEND;VALUE=DATE:20241004
DTSTAMP:20260421T063958
CREATED:20240519T110018Z
LAST-MODIFIED:20240519T124518Z
UID:1489-1727913600-1727999999@prospectapromotora.com.br
SUMMARY:Suellen Paula Cardoso da Cunha
DESCRIPTION:
URL:https://prospectapromotora.com.br/event/suellen-paula-cardoso-da-cunha/
END:VEVENT
BEGIN:VEVENT
DTSTART;VALUE=DATE:20241003
DTEND;VALUE=DATE:20241004
DTSTAMP:20260421T063958
CREATED:20240519T105539Z
LAST-MODIFIED:20240519T124911Z
UID:1433-1727913600-1727999999@prospectapromotora.com.br
SUMMARY:Vanderson Santana dos Santos
DESCRIPTION:
URL:https://prospectapromotora.com.br/event/vanderson-santana-dos-santos/
END:VEVENT
BEGIN:VEVENT
DTSTART;VALUE=DATE:20241002
DTEND;VALUE=DATE:20241003
DTSTAMP:20260421T063958
CREATED:20240519T110118Z
LAST-MODIFIED:20240519T124539Z
UID:1506-1727827200-1727913599@prospectapromotora.com.br
SUMMARY:Viviane aparecida Gomes trindade
DESCRIPTION:
URL:https://prospectapromotora.com.br/event/viviane-aparecida-gomes-trindade/
END:VEVENT
BEGIN:VEVENT
DTSTART;TZID=America/Sao_Paulo:20241002T000000
DTEND;TZID=America/Sao_Paulo:20241002T000000
DTSTAMP:20260421T063958
CREATED:20240519T110203Z
LAST-MODIFIED:20240519T112653Z
UID:1521-1727827200-1727827200@prospectapromotora.com.br
SUMMARY:Thiago Breno Lima Xavier
DESCRIPTION:
URL:https://prospectapromotora.com.br/event/thiago-breno-lima-xavier/
END:VEVENT
BEGIN:VEVENT
DTSTART;TZID=America/Sao_Paulo:20241002T000000
DTEND;TZID=America/Sao_Paulo:20241002T000000
DTSTAMP:20260421T063958
CREATED:20240519T105540Z
LAST-MODIFIED:20240519T122354Z
UID:1434-1727827200-1727827200@prospectapromotora.com.br
SUMMARY:Marcilene Bispo Soares
DESCRIPTION:
URL:https://prospectapromotora.com.br/event/marcilene-bispo-soares/
END:VEVENT
BEGIN:VEVENT
DTSTART;VALUE=DATE:20240927
DTEND;VALUE=DATE:20240928
DTSTAMP:20260421T063958
CREATED:20240519T105625Z
LAST-MODIFIED:20240519T130310Z
UID:1447-1727395200-1727481599@prospectapromotora.com.br
SUMMARY:Leandro de Moura Baptista
DESCRIPTION:
URL:https://prospectapromotora.com.br/event/leandro-de-moura-baptista/
END:VEVENT
BEGIN:VEVENT
DTSTART;VALUE=DATE:20240907
DTEND;VALUE=DATE:20240908
DTSTAMP:20260421T063958
CREATED:20240519T105538Z
LAST-MODIFIED:20240519T130332Z
UID:1424-1725667200-1725753599@prospectapromotora.com.br
SUMMARY:Rogerio Gomes
DESCRIPTION:
URL:https://prospectapromotora.com.br/event/rogerio-gomes/
END:VEVENT
BEGIN:VEVENT
DTSTART;VALUE=DATE:20240905
DTEND;VALUE=DATE:20240906
DTSTAMP:20260421T063958
CREATED:20240519T110133Z
LAST-MODIFIED:20250731T190054Z
UID:1512-1725494400-1725580799@prospectapromotora.com.br
SUMMARY:Tayse Santos de  Almeida Roma
DESCRIPTION:
URL:https://prospectapromotora.com.br/event/tayse-santos-de-almeida-roma/
END:VEVENT
BEGIN:VEVENT
DTSTART;VALUE=DATE:20240903
DTEND;VALUE=DATE:20240904
DTSTAMP:20260421T063958
CREATED:20240519T105640Z
LAST-MODIFIED:20240519T124936Z
UID:1450-1725321600-1725407999@prospectapromotora.com.br
SUMMARY:Rafael Oliveira Silva
DESCRIPTION:
URL:https://prospectapromotora.com.br/event/rafael-oliveira-silva/
END:VEVENT
BEGIN:VEVENT
DTSTART;TZID=America/Sao_Paulo:20240903T000000
DTEND;TZID=America/Sao_Paulo:20240903T000000
DTSTAMP:20260421T063958
CREATED:20240519T105640Z
LAST-MODIFIED:20240519T112829Z
UID:1454-1725321600-1725321600@prospectapromotora.com.br
SUMMARY:cassio raniery dos santos freitas
DESCRIPTION:
URL:https://prospectapromotora.com.br/event/cassio-raniery-dos-santos-freitas/
END:VEVENT
BEGIN:VEVENT
DTSTART;TZID=America/Sao_Paulo:20240830T000000
DTEND;TZID=America/Sao_Paulo:20240830T000000
DTSTAMP:20260421T063958
CREATED:20240519T105710Z
LAST-MODIFIED:20240519T112849Z
UID:1464-1724976000-1724976000@prospectapromotora.com.br
SUMMARY:FILIPE CAIO DE JESUS NASCIMENTO
DESCRIPTION:
URL:https://prospectapromotora.com.br/event/filipe-caio-de-jesus-nascimento/
END:VEVENT
BEGIN:VEVENT
DTSTART;TZID=America/Sao_Paulo:20240819T000000
DTEND;TZID=America/Sao_Paulo:20240819T000000
DTSTAMP:20260421T063958
CREATED:20240519T110133Z
LAST-MODIFIED:20240519T112915Z
UID:1510-1724025600-1724025600@prospectapromotora.com.br
SUMMARY:Aparecida Stephane Freitas Gomes
DESCRIPTION:
URL:https://prospectapromotora.com.br/event/aparecida-stephane-freitas-gomes/
END:VEVENT
BEGIN:VEVENT
DTSTART;VALUE=DATE:20240808
DTEND;VALUE=DATE:20240809
DTSTAMP:20260421T063958
CREATED:20240519T105538Z
LAST-MODIFIED:20250731T190219Z
UID:1420-1723075200-1723161599@prospectapromotora.com.br
SUMMARY:DANIELE SARINO ALVES DOS SANTOS
DESCRIPTION:
URL:https://prospectapromotora.com.br/event/daniele-sarino-alves-dos-santos/
END:VEVENT
BEGIN:VEVENT
DTSTART;VALUE=DATE:20240806
DTEND;VALUE=DATE:20240807
DTSTAMP:20260421T063958
CREATED:20240519T105800Z
LAST-MODIFIED:20240519T125442Z
UID:1467-1722902400-1722988799@prospectapromotora.com.br
SUMMARY:POLLYANNA NAVRATILOVA BARBOSA TENÓRIO DOS SANTOS
DESCRIPTION:
URL:https://prospectapromotora.com.br/event/pollyanna-navratilova-barbosa-tenorio-dos-santos/
END:VEVENT
BEGIN:VEVENT
DTSTART;VALUE=DATE:20240802
DTEND;VALUE=DATE:20240803
DTSTAMP:20260421T063958
CREATED:20240519T105845Z
LAST-MODIFIED:20250731T190914Z
UID:1480-1722556800-1722643199@prospectapromotora.com.br
SUMMARY:Marcela Joaquim Chaprão
DESCRIPTION:
URL:https://prospectapromotora.com.br/event/marcela-joaquim-chaprao/
END:VEVENT
BEGIN:VEVENT
DTSTART;TZID=America/Sao_Paulo:20240731T000000
DTEND;TZID=America/Sao_Paulo:20240731T000000
DTSTAMP:20260421T063958
CREATED:20240519T110203Z
LAST-MODIFIED:20240519T123153Z
UID:1524-1722384000-1722384000@prospectapromotora.com.br
SUMMARY:Efraim Batista Neto
DESCRIPTION:
URL:https://prospectapromotora.com.br/event/efraim-batista-neto/
END:VEVENT
BEGIN:VEVENT
DTSTART;TZID=America/Sao_Paulo:20240729T000000
DTEND;TZID=America/Sao_Paulo:20240729T000000
DTSTAMP:20260421T063958
CREATED:20240519T105655Z
LAST-MODIFIED:20240519T121918Z
UID:1455-1722211200-1722211200@prospectapromotora.com.br
SUMMARY:Daniela Kivia Gomes Nicandro
DESCRIPTION:
URL:https://prospectapromotora.com.br/event/daniela-kivia-gomes-nicandro/
END:VEVENT
BEGIN:VEVENT
DTSTART;TZID=America/Sao_Paulo:20240726T000000
DTEND;TZID=America/Sao_Paulo:20240726T000000
DTSTAMP:20260421T063958
CREATED:20240519T105625Z
LAST-MODIFIED:20240519T122427Z
UID:1446-1721952000-1721952000@prospectapromotora.com.br
SUMMARY:ANA PAULA AIRES DE CARVALHO LOPES
DESCRIPTION:
URL:https://prospectapromotora.com.br/event/ana-paula-aires-de-carvalho-lopes/
END:VEVENT
BEGIN:VEVENT
DTSTART;TZID=America/Sao_Paulo:20240725T000000
DTEND;TZID=America/Sao_Paulo:20240725T000000
DTSTAMP:20260421T063958
CREATED:20240519T105815Z
LAST-MODIFIED:20240519T112735Z
UID:1473-1721865600-1721865600@prospectapromotora.com.br
SUMMARY:Shayane Souza da Silva
DESCRIPTION:
URL:https://prospectapromotora.com.br/event/shayane-souza-da-silva/
END:VEVENT
BEGIN:VEVENT
DTSTART;TZID=America/Sao_Paulo:20240724T000000
DTEND;TZID=America/Sao_Paulo:20240724T000000
DTSTAMP:20260421T063958
CREATED:20240519T105610Z
LAST-MODIFIED:20240519T113959Z
UID:1441-1721779200-1721779200@prospectapromotora.com.br
SUMMARY:Francielle Correa dos Santos
DESCRIPTION:
URL:https://prospectapromotora.com.br/event/francielle-correa-dos-santos/
END:VEVENT
BEGIN:VEVENT
DTSTART;VALUE=DATE:20240722
DTEND;VALUE=DATE:20240723
DTSTAMP:20260421T063958
CREATED:20240519T105539Z
LAST-MODIFIED:20240519T123938Z
UID:1430-1721606400-1721692799@prospectapromotora.com.br
SUMMARY:David Machado Neto
DESCRIPTION:
URL:https://prospectapromotora.com.br/event/david-machado-neto/
END:VEVENT
BEGIN:VEVENT
DTSTART;TZID=America/Sao_Paulo:20240719T000000
DTEND;TZID=America/Sao_Paulo:20240719T000000
DTSTAMP:20260421T063958
CREATED:20240519T110048Z
LAST-MODIFIED:20240519T130037Z
UID:1499-1721347200-1721347200@prospectapromotora.com.br
SUMMARY:Edilaine Angelo
DESCRIPTION:
URL:https://prospectapromotora.com.br/event/edilaine-angelo/
END:VEVENT
BEGIN:VEVENT
DTSTART;TZID=America/Sao_Paulo:20240713T000000
DTEND;TZID=America/Sao_Paulo:20240713T000000
DTSTAMP:20260421T063958
CREATED:20240519T110018Z
LAST-MODIFIED:20240519T111134Z
UID:1486-1720828800-1720828800@prospectapromotora.com.br
SUMMARY:ANDRESSA RAYANE DOS SANTOS
DESCRIPTION:
URL:https://prospectapromotora.com.br/event/andressa-rayane-dos-santos/
END:VEVENT
BEGIN:VEVENT
DTSTART;TZID=America/Sao_Paulo:20240705T000000
DTEND;TZID=America/Sao_Paulo:20240705T000000
DTSTAMP:20260421T063958
CREATED:20240519T110033Z
LAST-MODIFIED:20240519T113707Z
UID:1494-1720137600-1720137600@prospectapromotora.com.br
SUMMARY:LUCAS VITOR DE SOUZA SANTOS
DESCRIPTION:
URL:https://prospectapromotora.com.br/event/lucas-vitor-de-souza-santos/
END:VEVENT
BEGIN:VEVENT
DTSTART;VALUE=DATE:20240702
DTEND;VALUE=DATE:20240703
DTSTAMP:20260421T063958
CREATED:20240519T105539Z
LAST-MODIFIED:20240519T130426Z
UID:1429-1719878400-1719964799@prospectapromotora.com.br
SUMMARY:Giselle Azevedo de Oliveira
DESCRIPTION:
URL:https://prospectapromotora.com.br/event/giselle-azevedo-de-oliveira/
END:VEVENT
BEGIN:VEVENT
DTSTART;VALUE=DATE:20240620
DTEND;VALUE=DATE:20240621
DTSTAMP:20260421T063958
CREATED:20240519T110148Z
LAST-MODIFIED:20240519T124305Z
UID:1516-1718841600-1718927999@prospectapromotora.com.br
SUMMARY:Laila jardim de Oliveira
DESCRIPTION:
URL:https://prospectapromotora.com.br/event/laila-jardim-de-oliveira/
END:VEVENT
BEGIN:VEVENT
DTSTART;VALUE=DATE:20240619
DTEND;VALUE=DATE:20240620
DTSTAMP:20260421T063958
CREATED:20240519T105710Z
LAST-MODIFIED:20240618T181445Z
UID:1460-1718755200-1718841599@prospectapromotora.com.br
SUMMARY:Daniel Dantas Neto
DESCRIPTION:
URL:https://prospectapromotora.com.br/event/daniel-dantas-neto/
END:VEVENT
BEGIN:VEVENT
DTSTART;TZID=America/Sao_Paulo:20240616T000000
DTEND;TZID=America/Sao_Paulo:20240616T000000
DTSTAMP:20260421T063958
CREATED:20240519T105539Z
LAST-MODIFIED:20240519T122458Z
UID:1427-1718496000-1718496000@prospectapromotora.com.br
SUMMARY:ALLEF KAYQUE MARQUES BONS OLHOS
DESCRIPTION:
URL:https://prospectapromotora.com.br/event/allef-kayque-marques-bons-olhos/
END:VEVENT
END:VCALENDAR