BEGIN:VCALENDAR
VERSION:2.0
PRODID:-//Prospecta Promotora - ECPv6.15.20//NONSGML v1.0//EN
CALSCALE:GREGORIAN
METHOD:PUBLISH
X-ORIGINAL-URL:https://prospectapromotora.com.br
X-WR-CALDESC:Eventos para Prospecta Promotora
REFRESH-INTERVAL;VALUE=DURATION:PT1H
X-Robots-Tag:noindex
X-PUBLISHED-TTL:PT1H
BEGIN:VTIMEZONE
TZID:America/Sao_Paulo
BEGIN:STANDARD
TZOFFSETFROM:-0300
TZOFFSETTO:-0300
TZNAME:-03
DTSTART:20230101T000000
END:STANDARD
END:VTIMEZONE
BEGIN:VEVENT
DTSTART;VALUE=DATE:20240602
DTEND;VALUE=DATE:20240603
DTSTAMP:20260421T111050
CREATED:20240519T105710Z
LAST-MODIFIED:20240601T121116Z
UID:1462-1717286400-1717372799@prospectapromotora.com.br
SUMMARY:Isadora Braga da Hora
DESCRIPTION:
URL:https://prospectapromotora.com.br/event/isadora-braga-da-hora/
END:VEVENT
BEGIN:VEVENT
DTSTART;TZID=America/Sao_Paulo:20240601T000000
DTEND;TZID=America/Sao_Paulo:20240601T000000
DTSTAMP:20260421T111050
CREATED:20240519T110236Z
LAST-MODIFIED:20240519T121938Z
UID:1533-1717200000-1717200000@prospectapromotora.com.br
SUMMARY:CHRISTOPHER ROCHA DA FONSECA
DESCRIPTION:
URL:https://prospectapromotora.com.br/event/christopher-rocha-da-fonseca/
END:VEVENT
BEGIN:VEVENT
DTSTART;TZID=America/Sao_Paulo:20240531T000000
DTEND;TZID=America/Sao_Paulo:20240531T000000
DTSTAMP:20260421T111050
CREATED:20240519T105655Z
LAST-MODIFIED:20240519T122736Z
UID:1457-1717113600-1717113600@prospectapromotora.com.br
SUMMARY:Guilherme Antônio Crisóstomo
DESCRIPTION:
URL:https://prospectapromotora.com.br/event/guilherme-antonio-crisostomo/
END:VEVENT
BEGIN:VEVENT
DTSTART;TZID=America/Sao_Paulo:20240529T000000
DTEND;TZID=America/Sao_Paulo:20240529T000000
DTSTAMP:20260421T111050
CREATED:20240519T110203Z
LAST-MODIFIED:20240519T121959Z
UID:1523-1716940800-1716940800@prospectapromotora.com.br
SUMMARY:Roger Alexandre Santos de Oliveira
DESCRIPTION:
URL:https://prospectapromotora.com.br/event/roger-alexandre-santos-de-oliveira/
END:VEVENT
END:VCALENDAR